Workbook

Sheet xHidWSH_LJY

Sheet 記入欄
C2: 中国向け輸出に向けた放射性物質検査の検体募集 応募様式（令和８年２月検査分）
B3: 【応募者情報】
C4: 事業者名 | F4: =IF(COUNTA(D4)=1,"","※必須項目です") -> ※必須項目です
C5: 事業所住所 | D5: 〒 | F5: =IF(COUNTA(E5)=1,"","※必須項目です") -> ※必須項目です
F6: =IF(COUNTA(D6)=1,"","※必須項目です") -> ※必須項目です
C7: 登録施設名 | F7: =IF(COUNTA(D7)=1,"","※必須項目です") -> ※必須項目です
C8: 日本の認定番号 | F8: =IF(COUNTA(D8)=1,"","※必須項目です") -> ※必須項目です
C9: 登録施設住所 | D9: 〒 | F9: =IF(COUNTA(E9)=1,"","※必須項目です") -> ※必須項目です
F10: =IF(COUNTA(D10)=1,"","※必須項目です") -> ※必須項目です
C11: 担当者名 | F11: =IF(COUNTA(D11)=1,"","※必須項目です") -> ※必須項目です
C12: お問合せ先（電話） | F12: =IF(COUNTA(D12)=1,"","※必須項目です") -> ※必須項目です
C13: お問合せ先（メール） | F13: =IF(COUNTA(D13)=1,"","※必須項目です") -> ※必須項目です
B15: 【応募する魚種】
C16: 応募する魚種を１種類選択し、標準和名および学名を記入してください。
C17: 応募する魚種 | F17: =IF(COUNTA(E17)=1,"","※必須項目です") -> ※必須項目です
C18: 標準和名 | F18: =IF(COUNTA(E18)=1,"","※必須項目です") -> ※必須項目です
C19: 学名 | F19: =IF(COUNTA(E19)=1,"","※必須項目です") -> ※必須項目です
C20: ※同一事業者で複数施設からの検体を応募する場合、１つの応募用紙にまとめて記入せず、施設ごとに応募用紙を作成してください。

Sheet 水産庁用（記入・削除しないでください）
A1: ※ このシートは水産庁の集計用です。このシートには何も記入しないでください。
B3: 事業者名 | C3: 事業所住所 | E3: 登録施設名 | F3: 日本の認定番号 | G3: 登録施設住所 | I3: 担当者名 | J3: お問合せ先 （電話） | K3: お問合せ先 （メール） | L3: 応募魚種 | M3: 標準和名 | N3: 学名
B4: =記入欄!D4 -> 0 | C4: =記入欄!E5 -> 0 | D4: =記入欄!D6 -> 0 | E4: =記入欄!D7 -> 0 | F4: =記入欄!D8 -> 0 | G4: =記入欄!E9 -> 0 | H4: =記入欄!D10 -> 0 | I4: =記入欄!D11 -> 0 | J4: =記入欄!D12 -> 0 | K4: =記入欄!D13 -> 0 | L4: =記入欄!E17 -> 0 | M4: =記入欄!E18 -> 0 | N4: =記入欄!E19 -> 0
